BEGIN:VCALENDAR
VERSION:2.0
PRODID:-//Falkenbergs Konståkningsklubb - ECPv6.15.20//NONSGML v1.0//EN
CALSCALE:GREGORIAN
METHOD:PUBLISH
X-ORIGINAL-URL:https://falkk.se
X-WR-CALDESC:Händelser för Falkenbergs Konståkningsklubb
REFRESH-INTERVAL;VALUE=DURATION:PT1H
X-Robots-Tag:noindex
X-PUBLISHED-TTL:PT1H
BEGIN:VTIMEZONE
TZID:Europe/Stockholm
BEGIN:DAYLIGHT
TZOFFSETFROM:+0100
TZOFFSETTO:+0200
TZNAME:CEST
DTSTART:20250330T010000
END:DAYLIGHT
BEGIN:STANDARD
TZOFFSETFROM:+0200
TZOFFSETTO:+0100
TZNAME:CET
DTSTART:20251026T010000
END:STANDARD
BEGIN:DAYLIGHT
TZOFFSETFROM:+0100
TZOFFSETTO:+0200
TZNAME:CEST
DTSTART:20260329T010000
END:DAYLIGHT
BEGIN:STANDARD
TZOFFSETFROM:+0200
TZOFFSETTO:+0100
TZNAME:CET
DTSTART:20261025T010000
END:STANDARD
BEGIN:DAYLIGHT
TZOFFSETFROM:+0100
TZOFFSETTO:+0200
TZNAME:CEST
DTSTART:20270328T010000
END:DAYLIGHT
BEGIN:STANDARD
TZOFFSETFROM:+0200
TZOFFSETTO:+0100
TZNAME:CET
DTSTART:20271031T010000
END:STANDARD
END:VTIMEZONE
BEGIN:VEVENT
DTSTART;VALUE=DATE:20260228
DTEND;VALUE=DATE:20260302
DTSTAMP:20260424T124907
CREATED:20251026T101809Z
LAST-MODIFIED:20251026T115148Z
UID:2294-1772236800-1772409599@falkk.se
SUMMARY:System 1 Slottsstaden
DESCRIPTION:
URL:https://falkk.se/event/system-1-malmo/
CATEGORIES:System 1
END:VEVENT
BEGIN:VEVENT
DTSTART;VALUE=DATE:20260228
DTEND;VALUE=DATE:20260302
DTSTAMP:20260424T124907
CREATED:20251217T065132Z
LAST-MODIFIED:20251217T065132Z
UID:2409-1772236800-1772409599@falkk.se
SUMMARY:Skate Skåne Landskrona
DESCRIPTION:
URL:https://falkk.se/event/skate-skane-landskrona/
END:VEVENT
BEGIN:VEVENT
DTSTART;VALUE=DATE:20260307
DTEND;VALUE=DATE:20260309
DTSTAMP:20260424T124907
CREATED:20251026T101929Z
LAST-MODIFIED:20251026T101929Z
UID:2297-1772841600-1773014399@falkk.se
SUMMARY:System 3 Malmö KK
DESCRIPTION:
URL:https://falkk.se/event/system-3-malmo-kk/
CATEGORIES:System 3
END:VEVENT
BEGIN:VEVENT
DTSTART;VALUE=DATE:20260314
DTEND;VALUE=DATE:20260316
DTSTAMP:20260424T124907
CREATED:20251026T102035Z
LAST-MODIFIED:20251026T102035Z
UID:2299-1773446400-1773619199@falkk.se
SUMMARY:System 2 Mörrum
DESCRIPTION:
URL:https://falkk.se/event/system-2-morrum/
CATEGORIES:System 2
END:VEVENT
BEGIN:VEVENT
DTSTART;VALUE=DATE:20260314
DTEND;VALUE=DATE:20260316
DTSTAMP:20260424T124907
CREATED:20251026T103005Z
LAST-MODIFIED:20251026T103005Z
UID:2310-1773446400-1773619199@falkk.se
SUMMARY:Nationella serien Solna
DESCRIPTION:
URL:https://falkk.se/event/nationella-serien-solna/
CATEGORIES:Nationella serien
END:VEVENT
BEGIN:VEVENT
DTSTART;VALUE=DATE:20260328
DTEND;VALUE=DATE:20260330
DTSTAMP:20260424T124907
CREATED:20260118T092537Z
LAST-MODIFIED:20260118T092537Z
UID:2476-1774656000-1774828799@falkk.se
SUMMARY:System 1 Landskrona
DESCRIPTION:
URL:https://falkk.se/event/system-1-landskrona-2/
CATEGORIES:System 1
END:VEVENT
END:VCALENDAR