BEGIN:VCALENDAR
VERSION:2.0
PRODID:-//Falkenbergs Konståkningsklubb - ECPv6.15.20//NONSGML v1.0//EN
CALSCALE:GREGORIAN
METHOD:PUBLISH
X-ORIGINAL-URL:https://falkk.se
X-WR-CALDESC:Händelser för Falkenbergs Konståkningsklubb
REFRESH-INTERVAL;VALUE=DURATION:PT1H
X-Robots-Tag:noindex
X-PUBLISHED-TTL:PT1H
BEGIN:VTIMEZONE
TZID:Europe/Stockholm
BEGIN:DAYLIGHT
TZOFFSETFROM:+0100
TZOFFSETTO:+0200
TZNAME:CEST
DTSTART:20240331T010000
END:DAYLIGHT
BEGIN:STANDARD
TZOFFSETFROM:+0200
TZOFFSETTO:+0100
TZNAME:CET
DTSTART:20241027T010000
END:STANDARD
BEGIN:DAYLIGHT
TZOFFSETFROM:+0100
TZOFFSETTO:+0200
TZNAME:CEST
DTSTART:20250330T010000
END:DAYLIGHT
BEGIN:STANDARD
TZOFFSETFROM:+0200
TZOFFSETTO:+0100
TZNAME:CET
DTSTART:20251026T010000
END:STANDARD
BEGIN:DAYLIGHT
TZOFFSETFROM:+0100
TZOFFSETTO:+0200
TZNAME:CEST
DTSTART:20260329T010000
END:DAYLIGHT
BEGIN:STANDARD
TZOFFSETFROM:+0200
TZOFFSETTO:+0100
TZNAME:CET
DTSTART:20261025T010000
END:STANDARD
END:VTIMEZONE
BEGIN:VEVENT
DTSTART;VALUE=DATE:20251206
DTEND;VALUE=DATE:20251208
DTSTAMP:20260424T142239
CREATED:20250806T180806Z
LAST-MODIFIED:20250806T180806Z
UID:2029-1764979200-1765151999@falkk.se
SUMMARY:Nationella serien Göteborg
DESCRIPTION:
URL:https://falkk.se/event/nationella-serien-goteborg/
CATEGORIES:Nationella serien
END:VEVENT
BEGIN:VEVENT
DTSTART;TZID=Europe/Stockholm:20251207T080000
DTEND;TZID=Europe/Stockholm:20251207T140000
DTSTAMP:20260424T142239
CREATED:20251103T192910Z
LAST-MODIFIED:20251103T192910Z
UID:2338-1765094400-1765116000@falkk.se
SUMMARY:Supersöndag
DESCRIPTION:En härlig uppvisningdag för åkare i Axel\, Lutz\, Flip\, Flygskär\, Leverans och Bauer.
URL:https://falkk.se/event/supersondag/
END:VEVENT
BEGIN:VEVENT
DTSTART;TZID=Europe/Stockholm:20251208T170000
DTEND;TZID=Europe/Stockholm:20251208T200000
DTSTAMP:20260424T142239
CREATED:20251106T064311Z
LAST-MODIFIED:20251106T064312Z
UID:2353-1765213200-1765224000@falkk.se
SUMMARY:Skåneserien deltävling 3 - Rögle
DESCRIPTION:Sista deltävlingen i Skåneserien.
URL:https://falkk.se/event/skaneserien-deltavling-3-rogle/
END:VEVENT
BEGIN:VEVENT
DTSTART;VALUE=DATE:20251211
DTEND;VALUE=DATE:20251215
DTSTAMP:20260424T142239
CREATED:20251116T083746Z
LAST-MODIFIED:20251116T083746Z
UID:2361-1765411200-1765756799@falkk.se
SUMMARY:SM-veckan i Landskrona
DESCRIPTION:Svenska Mästerskapen i konståkning 2025/2026 arrangeras av Landskrona Konståkning i samarbete med Svenska Konståkningsförbundet och Landskrona stad. Under fyra dagar samlas Sveriges främsta konståkare för att tävla i singel\, par\, isdans och synkroniserad konståkning.
URL:https://falkk.se/event/sm-veckan-i-landskrona/
END:VEVENT
BEGIN:VEVENT
DTSTART;TZID=Europe/Stockholm:20251217T180000
DTEND;TZID=Europe/Stockholm:20251217T180000
DTSTAMP:20260424T142239
CREATED:20251015T100803Z
LAST-MODIFIED:20251211T204731Z
UID:2244-1765994400-1765994400@falkk.se
SUMMARY:Julavslutning
DESCRIPTION:Julavslutningen börjar kl. 18.00 och det finns fika att köpa. \nVälkommen!
URL:https://falkk.se/event/julavslutning/
LOCATION:Falkenbergs ishall
END:VEVENT
BEGIN:VEVENT
DTSTART;VALUE=DATE:20251220
DTEND;VALUE=DATE:20251222
DTSTAMP:20260424T142239
CREATED:20250806T180902Z
LAST-MODIFIED:20250806T180902Z
UID:2031-1766188800-1766361599@falkk.se
SUMMARY:System 2 Tyringe
DESCRIPTION:
URL:https://falkk.se/event/system-2-tyringe/
CATEGORIES:System 2
END:VEVENT
END:VCALENDAR