BEGIN:VCALENDAR
VERSION:2.0
PRODID:-//Falkenbergs Konståkningsklubb - ECPv6.15.20//NONSGML v1.0//EN
CALSCALE:GREGORIAN
METHOD:PUBLISH
X-WR-CALNAME:Falkenbergs Konståkningsklubb
X-ORIGINAL-URL:https://falkk.se
X-WR-CALDESC:Händelser för Falkenbergs Konståkningsklubb
REFRESH-INTERVAL;VALUE=DURATION:PT1H
X-Robots-Tag:noindex
X-PUBLISHED-TTL:PT1H
BEGIN:VTIMEZONE
TZID:Europe/Stockholm
BEGIN:DAYLIGHT
TZOFFSETFROM:+0100
TZOFFSETTO:+0200
TZNAME:CEST
DTSTART:20240331T010000
END:DAYLIGHT
BEGIN:STANDARD
TZOFFSETFROM:+0200
TZOFFSETTO:+0100
TZNAME:CET
DTSTART:20241027T010000
END:STANDARD
BEGIN:DAYLIGHT
TZOFFSETFROM:+0100
TZOFFSETTO:+0200
TZNAME:CEST
DTSTART:20250330T010000
END:DAYLIGHT
BEGIN:STANDARD
TZOFFSETFROM:+0200
TZOFFSETTO:+0100
TZNAME:CET
DTSTART:20251026T010000
END:STANDARD
BEGIN:DAYLIGHT
TZOFFSETFROM:+0100
TZOFFSETTO:+0200
TZNAME:CEST
DTSTART:20260329T010000
END:DAYLIGHT
BEGIN:STANDARD
TZOFFSETFROM:+0200
TZOFFSETTO:+0100
TZNAME:CET
DTSTART:20261025T010000
END:STANDARD
END:VTIMEZONE
BEGIN:VEVENT
DTSTART;VALUE=DATE:20251101
DTEND;VALUE=DATE:20251103
DTSTAMP:20260424T160057
CREATED:20250902T074308Z
LAST-MODIFIED:20251010T045423Z
UID:2113-1761955200-1762127999@falkk.se
SUMMARY:System 1 Lund
DESCRIPTION:
URL:https://falkk.se/event/system-1-lund/
CATEGORIES:System 1
END:VEVENT
BEGIN:VEVENT
DTSTART;VALUE=DATE:20251108
DTEND;VALUE=DATE:20251110
DTSTAMP:20260424T160057
CREATED:20250806T180313Z
LAST-MODIFIED:20250806T180313Z
UID:2019-1762560000-1762732799@falkk.se
SUMMARY:Nationella serien Norrköping
DESCRIPTION:
URL:https://falkk.se/event/nationella-serien-norrkoping/
CATEGORIES:Nationella serien
END:VEVENT
BEGIN:VEVENT
DTSTART;TZID=Europe/Stockholm:20251109T120000
DTEND;TZID=Europe/Stockholm:20251109T130000
DTSTAMP:20260424T160057
CREATED:20251106T064152Z
LAST-MODIFIED:20251106T064152Z
UID:2350-1762689600-1762693200@falkk.se
SUMMARY:Internutbildning tränare
DESCRIPTION:Internutbildning för tränare och hjälptränare. Träningstid för Leverans ändrad till kl. 13-14.
URL:https://falkk.se/event/internutbildning-tranare/
END:VEVENT
BEGIN:VEVENT
DTSTART;TZID=Europe/Stockholm:20251112T170000
DTEND;TZID=Europe/Stockholm:20251112T200000
DTSTAMP:20260424T160057
CREATED:20251015T100706Z
LAST-MODIFIED:20251015T100706Z
UID:2241-1762966800-1762977600@falkk.se
SUMMARY:Skåneserien Falkenberg
DESCRIPTION:Skåneserien Pool 1 Deltävling 2
URL:https://falkk.se/event/skaneserien-falkenberg/
LOCATION:Falkenbergs ishall
END:VEVENT
BEGIN:VEVENT
DTSTART;VALUE=DATE:20251115
DTEND;VALUE=DATE:20251117
DTSTAMP:20260424T160057
CREATED:20250806T180426Z
LAST-MODIFIED:20250911T161705Z
UID:2021-1763164800-1763337599@falkk.se
SUMMARY:System 2 Trelleborg
DESCRIPTION:
URL:https://falkk.se/event/system-2-helsingborg/
CATEGORIES:System 2
END:VEVENT
BEGIN:VEVENT
DTSTART;VALUE=DATE:20251115
DTEND;VALUE=DATE:20251117
DTSTAMP:20260424T160057
CREATED:20250806T180510Z
LAST-MODIFIED:20250806T183905Z
UID:2023-1763164800-1763337599@falkk.se
SUMMARY:System 3 Reserv\, Göteborg
DESCRIPTION:
URL:https://falkk.se/event/system-3-goteborg/
CATEGORIES:System 3
END:VEVENT
BEGIN:VEVENT
DTSTART;VALUE=DATE:20251122
DTEND;VALUE=DATE:20251124
DTSTAMP:20260424T160057
CREATED:20250806T180623Z
LAST-MODIFIED:20250806T180623Z
UID:2025-1763769600-1763942399@falkk.se
SUMMARY:System 1 Landskrona
DESCRIPTION:
URL:https://falkk.se/event/system-1-landskrona/
CATEGORIES:System 1
END:VEVENT
BEGIN:VEVENT
DTSTART;VALUE=DATE:20251129
DTEND;VALUE=DATE:20251201
DTSTAMP:20260424T160057
CREATED:20250806T180728Z
LAST-MODIFIED:20250806T180728Z
UID:2027-1764374400-1764547199@falkk.se
SUMMARY:System 3 Rögle
DESCRIPTION:
URL:https://falkk.se/event/system-3-rogle/
CATEGORIES:System 3
END:VEVENT
END:VCALENDAR