BEGIN:VCALENDAR
VERSION:2.0
PRODID:-//Falkenbergs Konståkningsklubb - ECPv6.15.20//NONSGML v1.0//EN
CALSCALE:GREGORIAN
METHOD:PUBLISH
X-ORIGINAL-URL:https://falkk.se
X-WR-CALDESC:Händelser för Falkenbergs Konståkningsklubb
REFRESH-INTERVAL;VALUE=DURATION:PT1H
X-Robots-Tag:noindex
X-PUBLISHED-TTL:PT1H
BEGIN:VTIMEZONE
TZID:Europe/Stockholm
BEGIN:DAYLIGHT
TZOFFSETFROM:+0100
TZOFFSETTO:+0200
TZNAME:CEST
DTSTART:20240331T010000
END:DAYLIGHT
BEGIN:STANDARD
TZOFFSETFROM:+0200
TZOFFSETTO:+0100
TZNAME:CET
DTSTART:20241027T010000
END:STANDARD
BEGIN:DAYLIGHT
TZOFFSETFROM:+0100
TZOFFSETTO:+0200
TZNAME:CEST
DTSTART:20250330T010000
END:DAYLIGHT
BEGIN:STANDARD
TZOFFSETFROM:+0200
TZOFFSETTO:+0100
TZNAME:CET
DTSTART:20251026T010000
END:STANDARD
BEGIN:DAYLIGHT
TZOFFSETFROM:+0100
TZOFFSETTO:+0200
TZNAME:CEST
DTSTART:20260329T010000
END:DAYLIGHT
BEGIN:STANDARD
TZOFFSETFROM:+0200
TZOFFSETTO:+0100
TZNAME:CET
DTSTART:20261025T010000
END:STANDARD
END:VTIMEZONE
BEGIN:VEVENT
DTSTART;VALUE=DATE:20250816
DTEND;VALUE=DATE:20250818
DTSTAMP:20260424T212424
CREATED:20250806T174759Z
LAST-MODIFIED:20250806T174759Z
UID:1992-1755302400-1755475199@falkk.se
SUMMARY:Skånespetsen Karlskrona
DESCRIPTION:
URL:https://falkk.se/event/skanespetsen-karlskrona/
END:VEVENT
BEGIN:VEVENT
DTSTART;VALUE=DATE:20250822
DTEND;VALUE=DATE:20250825
DTSTAMP:20260424T212424
CREATED:20250623T121836Z
LAST-MODIFIED:20250623T121836Z
UID:1942-1755820800-1756079999@falkk.se
SUMMARY:Uppstartsläger
DESCRIPTION:
URL:https://falkk.se/event/uppstartslager/
LOCATION:Falkenbergs ishall
END:VEVENT
BEGIN:VEVENT
DTSTART;VALUE=DATE:20250830
DTEND;VALUE=DATE:20250901
DTSTAMP:20260424T212424
CREATED:20250806T174949Z
LAST-MODIFIED:20250806T174949Z
UID:1994-1756512000-1756684799@falkk.se
SUMMARY:A-sammandrag
DESCRIPTION:
URL:https://falkk.se/event/a-sammandrag/
END:VEVENT
END:VCALENDAR