BEGIN:VCALENDAR
VERSION:2.0
PRODID:-//Falkenbergs Konståkningsklubb - ECPv6.15.20//NONSGML v1.0//EN
CALSCALE:GREGORIAN
METHOD:PUBLISH
X-ORIGINAL-URL:https://falkk.se
X-WR-CALDESC:Händelser för Falkenbergs Konståkningsklubb
REFRESH-INTERVAL;VALUE=DURATION:PT1H
X-Robots-Tag:noindex
X-PUBLISHED-TTL:PT1H
BEGIN:VTIMEZONE
TZID:Europe/Stockholm
BEGIN:DAYLIGHT
TZOFFSETFROM:+0100
TZOFFSETTO:+0200
TZNAME:CEST
DTSTART:20250330T010000
END:DAYLIGHT
BEGIN:STANDARD
TZOFFSETFROM:+0200
TZOFFSETTO:+0100
TZNAME:CET
DTSTART:20251026T010000
END:STANDARD
BEGIN:DAYLIGHT
TZOFFSETFROM:+0100
TZOFFSETTO:+0200
TZNAME:CEST
DTSTART:20260329T010000
END:DAYLIGHT
BEGIN:STANDARD
TZOFFSETFROM:+0200
TZOFFSETTO:+0100
TZNAME:CET
DTSTART:20261025T010000
END:STANDARD
BEGIN:DAYLIGHT
TZOFFSETFROM:+0100
TZOFFSETTO:+0200
TZNAME:CEST
DTSTART:20270328T010000
END:DAYLIGHT
BEGIN:STANDARD
TZOFFSETFROM:+0200
TZOFFSETTO:+0100
TZNAME:CET
DTSTART:20271031T010000
END:STANDARD
END:VTIMEZONE
BEGIN:VEVENT
DTSTART;VALUE=DATE:20260117
DTEND;VALUE=DATE:20260119
DTSTAMP:20260424T171957
CREATED:20251217T064857Z
LAST-MODIFIED:20251217T064857Z
UID:2407-1768608000-1768780799@falkk.se
SUMMARY:System 3 Stenungsund
DESCRIPTION:
URL:https://falkk.se/event/system-3-stenungsund/
CATEGORIES:System 3
END:VEVENT
BEGIN:VEVENT
DTSTART;VALUE=DATE:20260131
DTEND;VALUE=DATE:20260202
DTSTAMP:20260424T171957
CREATED:20251026T101607Z
LAST-MODIFIED:20251217T064801Z
UID:2290-1769817600-1769990399@falkk.se
SUMMARY:System 3 Göteborg
DESCRIPTION:
URL:https://falkk.se/event/system-3-karlskrona/
CATEGORIES:System 3
END:VEVENT
END:VCALENDAR